BEGIN:VCALENDAR
VERSION:2.0
PRODID:-//TYPO3/NONSGML News system (news)//EN
BEGIN:VEVENT
UID:news-102472@oeffentliches-recht.uni-graz.at
DTSTAMP:20241223T091200Z
DTSTART:20230427T090047Z
DTEND:20230427T090047Z
SUMMARY:6. ClimLaw Roundtable
END:VEVENT
END:VCALENDAR
