BEGIN:VCALENDAR
VERSION:2.0
PRODID:-//TYPO3/NONSGML News system (news)//EN
BEGIN:VEVENT
UID:news-65762@oeffentliches-recht.uni-graz.at
DTSTAMP:20241223T091200Z
DTSTART:20200702T160000Z
DTEND:20200702T190000Z
SUMMARY:Big Data und Corona

DESCRIPTION:Hochkarätige Gäste und brandaktuelle Themen bei Premiere von „REWI im Gespräch“ online

END:VEVENT
END:VCALENDAR
