BEGIN:VCALENDAR
VERSION:2.0
PRODID:-//TYPO3/NONSGML News system (news)//EN
BEGIN:VEVENT
UID:news-65237@oeffentliches-recht.uni-graz.at
DTSTAMP:20241223T091200Z
DTSTART:20210423T103400Z
DTEND:20210423T103400Z
SUMMARY:Constitutionalism 2030

DESCRIPTION:What will Global Constitutionalism be like in 2030?
END:VEVENT
END:VCALENDAR
