BEGIN:VCALENDAR
VERSION:2.0
PRODID:-//TYPO3/NONSGML News system (news)//EN
BEGIN:VEVENT
UID:news-68483@oeffentliches-recht.uni-graz.at
DTSTAMP:20241223T091200Z
DTSTART:20201109T120000Z
DTEND:20201109T130000Z
SUMMARY:Lockdown By Press Conference?: Comparing the COVID-19 Lockdowns in Austria and New Zealand

DESCRIPTION:On November 9 2020, Tess Upperton, Province of Styria Fellow at the Law Faculty of the University of Graz, will give a lecture entitled “Lockdown By Press Conference? Comparing the COVID-19 Lockdowns in Austria and New Zealand” on how these two governments implemented and communicated lockdown measures, and why both lockdowns were later challenged and declared (partially) unlawful in court.
END:VEVENT
END:VCALENDAR
