BEGIN:VCALENDAR
VERSION:2.0
PRODID:-//TYPO3/NONSGML News system (news)//EN
BEGIN:VEVENT
UID:news-76183@oeffentliches-recht.uni-graz.at
DTSTAMP:20241223T091200Z
DTSTART:20220324T133400Z
DTEND:20220325T133700Z
SUMMARY:Rechtsdogmatik

DESCRIPTION:Die Veranstaltung stellt die Frage nach „Stand und Perspektiven“ rechtlicher Dogmatik, nach der Entwicklung, die sie hervorgebracht hat, nach den Voraussetzungen auf denen sie ruht, nach den Ansprüchen, denen sie zu genügen hat, nach der Leistungsfähigkeit, die sie beanspruchen kann, nach der Anschlussfähigkeit, die ihr innewohnt und überhaupt nach dem Charakter einer Befassung mit dem positiven Recht, die so vielen so vieles sagt.
END:VEVENT
END:VCALENDAR
