BEGIN:VCALENDAR
VERSION:2.0
PRODID:-//TYPO3/NONSGML News system (news)//EN
BEGIN:VEVENT
UID:news-98898@oeffentliches-recht.uni-graz.at
DTSTAMP:20241223T091200Z
DTSTART:20230123T160000Z
DTEND:20230123T180000Z
SUMMARY:REWI IM GESPRÄCH

DESCRIPTION:Wie weit reicht die Zuständigkeit der Landesrechnungshöfe? 
Zur Entscheidung des VfGH 6.12.2022, G221/2022
END:VEVENT
END:VCALENDAR
