BEGIN:VCALENDAR
VERSION:2.0
PRODID:-//TYPO3/NONSGML News system (news)//EN
BEGIN:VEVENT
UID:news-136007@oeffentliches-recht.uni-graz.at
DTSTAMP:20260421T084116Z
DTSTART:20260611T143000Z
DTEND:20260611T190000Z
SUMMARY:Symposium zur Fußball-WM 2026

DESCRIPTION:Wenn das Spiel zur Nebensache wird… | Die Fußball WM 2026 in Kanada, Mexiko und den USA wirft bereits ihre Schatten voraus und mit ihr treten Fragen in den Vordergrund, die weit über das Sportliche hinausreichen. Diesen widmen sich Expert:innen aus Wissenschaft und Praxis in zwei Panels.
END:VEVENT
END:VCALENDAR
